Workbook

Sheet Tableau_âges
A1: Tabelle de détermination de la classe d'âge
A2: L'âge de référence est celui atteint à la fin du concours
A4: Année cours | B4: 2027 | C4: < Année du concours
B7: Cat. A / U13 | C7: Debout sur appui fixe
B8: Cat. B / U13/U15 | C8: Debout sur appui mobile
B9: Cat. C / U13/U15 | C9: Debout Libre
B10: Cat. D / U17 | C10: Debout Libre
B11: Cat. E / U19/U21 | C11: Debout Libre
A14: Age | B14: Année | C14: Catégorie
A15: 10 | B15: =$B$4-A15 -> 2017 | C15: U13
A16: =A15+1 -> 11 | B16: =$B$4-A16 -> 2016 | C16: U13
A17: =A16+1 -> 12 | B17: =$B$4-A17 -> 2015 | C17: U13
A18: =A17+1 -> 13 | B18: =$B$4-A18 -> 2014 | C18: U15
A19: =A18+1 -> 14 | B19: =$B$4-A19 -> 2013 | C19: U15
A20: =A19+1 -> 15 | B20: =$B$4-A20 -> 2012 | C20: U17
A21: =A20+1 -> 16 | B21: =$B$4-A21 -> 2011 | C21: U17
A22: =A21+1 -> 17 | B22: =$B$4-A22 -> 2010 | C22: U19 | D22: U19
A23: =A22+1 -> 18 | B23: =$B$4-A23 -> 2009 | C23: U19 | D23: U19
A24: =A23+1 -> 19 | B24: =$B$4-A24 -> 2008 | C24: U21
A25: =A24+1 -> 20 | B25: =$B$4-A25 -> 2007 | C25: U21
A26: =A25+1 -> 21 | B26: =$B$4-A26 -> 2006 | C26: Elite
A27: =A26+1 -> 22 | B27: =$B$4-A27 -> 2005 | C27: Elite
A28: =A27+1 -> 23 | B28: =$B$4-A28 -> 2004 | C28: Elite
A29: =A28+1 -> 24 | B29: =$B$4-A29 -> 2003 | C29: Elite
A30: =A29+1 -> 25 | B30: =$B$4-A30 -> 2002 | C30: Elite
A31: =A30+1 -> 26 | B31: =$B$4-A31 -> 2001 | C31: Elite
A32: =A31+1 -> 27 | B32: =$B$4-A32 -> 2000 | C32: Elite
A33: =A32+1 -> 28 | B33: =$B$4-A33 -> 1999 | C33: Elite
A34: =A33+1 -> 29 | B34: =$B$4-A34 -> 1998 | C34: Elite
A35: =A34+1 -> 30 | B35: =$B$4-A35 -> 1997 | C35: Elite
... A50: =A49+1 -> 45 | B50: =$B$4-A50 -> 1982 | C50: Elite
A51: =A50+1 -> 46 | B51: =$B$4-A51 -> 1981 | C51: Senior | D51: Appui
A52: =A51+1 -> 47 | B52: =$B$4-A52 -> 1980 | C52: Senior | D52: Appui
A53: =A52+1 -> 48 | B53: =$B$4-A53 -> 1979 | C53: Senior | D53: Appui
A54: =A53+1 -> 49 | B54: =$B$4-A54 -> 1978 | C54: Senior | D54: Appui
A55: =A54+1 -> 50 | B55: =$B$4-A55 -> 1977 | C55: Senior | D55: Appui
A56: =A55+1 -> 51 | B56: =$B$4-A56 -> 1976 | C56: Senior | D56: Appui
A57: =A56+1 -> 52 | B57: =$B$4-A57 -> 1975 | C57: Senior | D57: Appui
A58: =A57+1 -> 53 | B58: =$B$4-A58 -> 1974 | C58: Senior | D58: Appui
A59: =A58+1 -> 54 | B59: =$B$4-A59 -> 1973 | C59: Senior | D59: Appui
A60: =A59+1 -> 55 | B60: =$B$4-A60 -> 1972 | C60: Senior | D60: Appui
A61: =A60+1 -> 56 | B61: =$B$4-A61 -> 1971 | C61: Senior | D61: Appui
A62: =A61+1 -> 57 | B62: =$B$4-A62 -> 1970 | C62: Senior | D62: Appui
... A85: =A84+1 -> 80 | B85: =$B$4-A85 -> 1947 | C85: Senior-vétéran | D85: Appui
B86: A | C86: Appui

Sheet FIRE10_Qualifs_FAC
C1: FEDERATION DE TIR DU BAS VALAIS Finale Régionale de la relève (FIRE10) | K1: Lieu | M1: : | N1: A définir
K2: Responsable | M2: : | N2: R. Lattion
K3: Date | M3: : | N3: 46282
K4: A retourner | M4: : | N4: 46387
C5: Résultats qualifications | K5: Date finale | M5: : | N5: 46396
A8: TOUR QUALIFICATIF
A9: N° | B9: NOM | C9: PRENOM | D9: SOCIETE | E9: Catégorie | F9: Catégorie | G9: Arme | H9: 20cps | I9: 20cps | J9: 20cps
E10: Année | F10: Tir | G10: PAC/FAC
A11: 1 | F11: =VLOOKUP(E11,Tableau_âges!$B$15:$C$86,2,FALSE) -> #N/A | G11: FAC | H11: 0 | I11: 0 | J11: 0 | N11: =SUM(H11:M11) -> 0
A12: 2 | F12: =VLOOKUP(E12,Tableau_âges!$B$15:$C$86,2,FALSE) -> #N/A | G12: FAC | H12: 0 | I12: 0 | J12: 0 | N12: =SUM(H12:M12) -> 0
A13: 3 | F13: =VLOOKUP(E13,Tableau_âges!$B$15:$C$86,2,FALSE) -> #N/A | G13: FAC | H13: 0 | I13: 0 | J13: 0 | N13: =SUM(H13:M13) -> 0
A14: 4 | F14: =VLOOKUP(E14,Tableau_âges!$B$15:$C$86,2,FALSE) -> #N/A | G14: FAC | H14: 0 | I14: 0 | J14: 0 | N14: =SUM(H14:M14) -> 0
A15: 5 | F15: =VLOOKUP(E15,Tableau_âges!$B$15:$C$86,2,FALSE) -> #N/A | G15: FAC | H15: 0 | I15: 0 | J15: 0 | N15: =SUM(H15:M15) -> 0
A16: 6 | F16: =VLOOKUP(E16,Tableau_âges!$B$15:$C$86,2,FALSE) -> #N/A | G16: FAC | H16: 0 | I16: 0 | J16: 0 | N16: =SUM(H16:M16) -> 0
A17: 7 | F17: =VLOOKUP(E17,Tableau_âges!$B$15:$C$86,2,FALSE) -> #N/A | G17: FAC | H17: 0 | I17: 0 | J17: 0 | N17: =SUM(H17:M17) -> 0
A18: 8 | F18: =VLOOKUP(E18,Tableau_âges!$B$15:$C$86,2,FALSE) -> #N/A | G18: FAC | H18: 0 | I18: 0 | J18: 0 | N18: =SUM(H18:M18) -> 0
A19: 9 | F19: U15 | G19: FAC | H19: 0 | I19: 0 | J19: 0 | N19: =SUM(H19:M19) -> 0
A20: 10 | F20: =VLOOKUP(E20,Tableau_âges!$B$15:$C$86,2,FALSE) -> #N/A | G20: FAC | H20: 0 | I20: 0 | J20: 0 | N20: =SUM(H20:M20) -> 0
A21: 11 | F21: =VLOOKUP(E21,Tableau_âges!$B$15:$C$86,2,FALSE) -> #N/A | G21: FAC | H21: 0 | I21: 0 | J21: 0 | N21: =SUM(H21:M21) -> 0
A22: 12 | F22: =VLOOKUP(E22,Tableau_âges!$B$15:$C$86,2,FALSE) -> #N/A | G22: FAC | H22: 0 | I22: 0 | J22: 0 | N22: =SUM(H22:M22) -> 0
A23: 13 | F23: =VLOOKUP(E23,Tableau_âges!$B$15:$C$86,2,FALSE) -> #N/A | G23: FAC | H23: 0 | I23: 0 | J23: 0 | N23: =SUM(H23:M23) -> 0
A24: 14 | F24: =VLOOKUP(E24,Tableau_âges!$B$15:$C$86,2,FALSE) -> #N/A | G24: FAC | H24: 0 | I24: 0 | J24: 0 | N24: =SUM(H24:M24) -> 0
A25: 15 | F25: =VLOOKUP(E25,Tableau_âges!$B$15:$C$86,2,FALSE) -> #N/A | G25: FAC | H25: 0 | I25: 0 | J25: 0 | N25: =SUM(H25:M25) -> 0
A26: 16 | F26: =VLOOKUP(E26,Tableau_âges!$B$15:$C$86,2,FALSE) -> #N/A | G26: FAC | H26: 0 | I26: 0 | J26: 0 | N26: =SUM(H26:M26) -> 0
A27: 17 | F27: =VLOOKUP(E27,Tableau_âges!$B$15:$C$86,2,FALSE) -> #N/A | G27: FAC | H27: 0 | I27: 0 | J27: 0 | N27: =SUM(H27:M27) -> 0
A28: 18 | F28: =VLOOKUP(E28,Tableau_âges!$B$15:$C$86,2,FALSE) -> #N/A | G28: FAC | H28: 0 | I28: 0 | J28: 0 | N28: =SUM(H28:M28) -> 0
A29: 19 | F29: =VLOOKUP(E29,Tableau_âges!$B$15:$C$86,2,FALSE) -> #N/A | G29: FAC | H29: 0 | I29: 0 | J29: 0 | N29: =SUM(H29:M29) -> 0
A30: 20 | F30: =VLOOKUP(E30,Tableau_âges!$B$15:$C$86,2,FALSE) -> #N/A | G30: FAC | H30: 0 | I30: 0 | J30: 0 | N30: =SUM(H30:M30) -> 0
A33: Remarques
A35: Le décompte à la carabine se fait au dixième. Pour le pistolet à l'unité (sans virgule).
A36: La liste des participants est à renvoyer avant le 31 décembre 2026 à fire10@tirbsvs.ch

Sheet FIRE10_Qualifs_PAC
C1: FEDERATION DE TIR DU BAS VALAIS Finale Régionale de la relève (FIRE10) | J1: Lieu | M1: : | N1: St-Maurice
J2: Responsable | M2: : | N2: R. Lattion
J3: Date | M3: : | N3: 46282
J4: A retourner | M4: : | N4: 46387
C5: Résultats qualifications | J5: Date finale | M5: : | N5: 46396
A8: TOUR QUALIFICATIF
A9: N° | B9: NOM | C9: PRENOM | D9: SOCIETE | E9: Catégorie | F9: Catégorie | G9: Arme | H9: 40cps | I9: 40cps
E10: Année | F10: Tir | G10: PAC/FAC
A11: 1 | F11: =VLOOKUP(E11,Tableau_âges!$B$15:$C$86,2,FALSE) -> #N/A | G11: PAC | H11: 0 | I11: 0 | N11: =+H11+I11 -> 0
A12: 2 | F12: =VLOOKUP(E12,Tableau_âges!$B$15:$C$86,2,FALSE) -> #N/A | G12: PAC | H12: 0 | I12: 0 | N12: =+H12+I12 -> 0
A13: 3 | F13: =VLOOKUP(E13,Tableau_âges!$B$15:$C$86,2,FALSE) -> #N/A | G13: PAC | H13: 0 | I13: 0 | N13: =+H13+I13 -> 0
A14: 4 | F14: =VLOOKUP(E14,Tableau_âges!$B$15:$C$86,2,FALSE) -> #N/A | G14: PAC | H14: 0 | I14: 0 | N14: =+H14+I14 -> 0
A15: 5 | F15: =VLOOKUP(E15,Tableau_âges!$B$15:$C$86,2,FALSE) -> #N/A | G15: PAC | H15: 0 | I15: 0 | N15: =+H15+I15 -> 0
A16: 6 | F16: =VLOOKUP(E16,Tableau_âges!$B$15:$C$86,2,FALSE) -> #N/A | G16: PAC | H16: 0 | I16: 0 | N16: =+H16+I16 -> 0
A17: 7 | F17: =VLOOKUP(E17,Tableau_âges!$B$15:$C$86,2,FALSE) -> #N/A | G17: PAC | H17: 0 | I17: 0 | N17: =+H17+I17 -> 0
A18: 8 | F18: =VLOOKUP(E18,Tableau_âges!$B$15:$C$86,2,FALSE) -> #N/A | G18: PAC | H18: 0 | I18: 0 | N18: =+H18+I18 -> 0
A19: 9 | F19: =VLOOKUP(E19,Tableau_âges!$B$15:$C$86,2,FALSE) -> #N/A | G19: PAC | H19: 0 | I19: 0 | N19: =+H19+I19 -> 0
A20: 10 | F20: =VLOOKUP(E20,Tableau_âges!$B$15:$C$86,2,FALSE) -> #N/A | G20: PAC | H20: 0 | I20: 0 | N20: =+H20+I20 -> 0
A21: 11 | F21: =VLOOKUP(E21,Tableau_âges!$B$15:$C$86,2,FALSE) -> #N/A | G21: PAC | H21: 0 | I21: 0 | N21: =+H21+I21 -> 0
A22: 12 | F22: =VLOOKUP(E22,Tableau_âges!$B$15:$C$86,2,FALSE) -> #N/A | G22: PAC | H22: 0 | I22: 0 | N22: =+H22+I22 -> 0
... A35: 25 | F35: =VLOOKUP(E35,Tableau_âges!$B$15:$C$86,2,FALSE) -> #N/A | G35: PAC | H35: 0 | I35: 0 | N35: =+H35+I35 -> 0
A38: Remarques
A40: Le décompte à la carabine se fait au dixième. Pour le pistolet à l'unité (sans virgule).
A41: La liste des participants est à renvoyer avant le 31 décembre 2026 à fire10@tirbsvs.ch
